BEGIN:VCALENDAR
VERSION:2.0
PRODID:-//Northeast Health District - ECPv6.15.20//NONSGML v1.0//EN
CALSCALE:GREGORIAN
METHOD:PUBLISH
X-WR-CALNAME:Northeast Health District
X-ORIGINAL-URL:https://northeasthealthdistrict.org
X-WR-CALDESC:Events for Northeast Health District
REFRESH-INTERVAL;VALUE=DURATION:PT1H
X-Robots-Tag:noindex
X-PUBLISHED-TTL:PT1H
BEGIN:VTIMEZONE
TZID:America/New_York
BEGIN:DAYLIGHT
TZOFFSETFROM:-0500
TZOFFSETTO:-0400
TZNAME:EDT
DTSTART:20230312T070000
END:DAYLIGHT
BEGIN:STANDARD
TZOFFSETFROM:-0400
TZOFFSETTO:-0500
TZNAME:EST
DTSTART:20231105T060000
END:STANDARD
BEGIN:DAYLIGHT
TZOFFSETFROM:-0500
TZOFFSETTO:-0400
TZNAME:EDT
DTSTART:20240310T070000
END:DAYLIGHT
BEGIN:STANDARD
TZOFFSETFROM:-0400
TZOFFSETTO:-0500
TZNAME:EST
DTSTART:20241103T060000
END:STANDARD
BEGIN:DAYLIGHT
TZOFFSETFROM:-0500
TZOFFSETTO:-0400
TZNAME:EDT
DTSTART:20250309T070000
END:DAYLIGHT
BEGIN:STANDARD
TZOFFSETFROM:-0400
TZOFFSETTO:-0500
TZNAME:EST
DTSTART:20251102T060000
END:STANDARD
END:VTIMEZONE
BEGIN:VEVENT
DTSTART;TZID=America/New_York:20240826T090000
DTEND;TZID=America/New_York:20240826T150000
DTSTAMP:20260422T221652
CREATED:20240508T231939Z
LAST-MODIFIED:20240819T220722Z
UID:10000336-1724662800-1724684400@northeasthealthdistrict.org
SUMMARY:Barrow County WIC Farmers Market
DESCRIPTION:WIC Farmers Market for WIC participants. WIC participants\, please complete the online Farmers Market lesson\, then bring your eWIC card.
URL:https://northeasthealthdistrict.org/event/barrow-county-farmers-market-6/
LOCATION:Barrow County Health Department – Winder\, 15 Porter St.\, Winder\, GA\, GA\, United States
CATEGORIES:WIC Farmers Market
GEO:33.9923896;-83.7224044
X-APPLE-STRUCTURED-LOCATION;VALUE=URI;X-ADDRESS=Barrow County Health Department – Winder 15 Porter St. Winder GA GA United States;X-APPLE-RADIUS=500;X-TITLE=15 Porter St.:geo:-83.7224044,33.9923896
END:VEVENT
END:VCALENDAR