BEGIN:VCALENDAR
VERSION:2.0
PRODID:-//Northeast Health District - ECPv6.15.20//NONSGML v1.0//EN
CALSCALE:GREGORIAN
METHOD:PUBLISH
X-ORIGINAL-URL:https://northeasthealthdistrict.org
X-WR-CALDESC:Events for Northeast Health District
REFRESH-INTERVAL;VALUE=DURATION:PT1H
X-Robots-Tag:noindex
X-PUBLISHED-TTL:PT1H
BEGIN:VTIMEZONE
TZID:UTC
BEGIN:STANDARD
TZOFFSETFROM:+0000
TZOFFSETTO:+0000
TZNAME:UTC
DTSTART:20220101T000000
END:STANDARD
END:VTIMEZONE
BEGIN:VEVENT
DTSTART;TZID=UTC:20230722T090000
DTEND;TZID=UTC:20230722T130000
DTSTAMP:20260420T155755
CREATED:20230715T001240Z
LAST-MODIFIED:20230715T001432Z
UID:10000209-1690016400-1690030800@northeasthealthdistrict.org
SUMMARY:Clarke County Schools - Rally to Register (Immunizations)
DESCRIPTION:Clarke County School District is sponsoring a Rally to Register to get students ready to start to school. The Clarke County Health Department will be providing select immunizations on-site that day.
URL:https://northeasthealthdistrict.org/event/clarke-county-schools-rally-to-register-immunizations/
LOCATION:Clarke County School District Office\, 595 Prince Ave\, Athens\, GA\, 30601\, United States
CATEGORIES:Back To School Vaccines
ATTACH;FMTTYPE=image/png:https://northeasthealthdistrict.org/wp-content/uploads/2023/07/Rally-to-Register-Flyer-Revised-1-1.png
GEO:33.9603812;-83.3872019
X-APPLE-STRUCTURED-LOCATION;VALUE=URI;X-ADDRESS=Clarke County School District Office 595 Prince Ave Athens GA 30601 United States;X-APPLE-RADIUS=500;X-TITLE=595 Prince Ave:geo:-83.3872019,33.9603812
END:VEVENT
END:VCALENDAR