BEGIN:VCALENDAR
VERSION:2.0
PRODID:-//Northeast Health District - ECPv6.15.20//NONSGML v1.0//EN
CALSCALE:GREGORIAN
METHOD:PUBLISH
X-ORIGINAL-URL:https://northeasthealthdistrict.org
X-WR-CALDESC:Events for Northeast Health District
REFRESH-INTERVAL;VALUE=DURATION:PT1H
X-Robots-Tag:noindex
X-PUBLISHED-TTL:PT1H
BEGIN:VTIMEZONE
TZID:America/New_York
BEGIN:DAYLIGHT
TZOFFSETFROM:-0500
TZOFFSETTO:-0400
TZNAME:EDT
DTSTART:20220313T070000
END:DAYLIGHT
BEGIN:STANDARD
TZOFFSETFROM:-0400
TZOFFSETTO:-0500
TZNAME:EST
DTSTART:20221106T060000
END:STANDARD
BEGIN:DAYLIGHT
TZOFFSETFROM:-0500
TZOFFSETTO:-0400
TZNAME:EDT
DTSTART:20230312T070000
END:DAYLIGHT
BEGIN:STANDARD
TZOFFSETFROM:-0400
TZOFFSETTO:-0500
TZNAME:EST
DTSTART:20231105T060000
END:STANDARD
BEGIN:DAYLIGHT
TZOFFSETFROM:-0500
TZOFFSETTO:-0400
TZNAME:EDT
DTSTART:20240310T070000
END:DAYLIGHT
BEGIN:STANDARD
TZOFFSETFROM:-0400
TZOFFSETTO:-0500
TZNAME:EST
DTSTART:20241103T060000
END:STANDARD
BEGIN:DAYLIGHT
TZOFFSETFROM:-0500
TZOFFSETTO:-0400
TZNAME:EDT
DTSTART:20250309T070000
END:DAYLIGHT
BEGIN:STANDARD
TZOFFSETFROM:-0400
TZOFFSETTO:-0500
TZNAME:EST
DTSTART:20251102T060000
END:STANDARD
BEGIN:DAYLIGHT
TZOFFSETFROM:-0500
TZOFFSETTO:-0400
TZNAME:EDT
DTSTART:20260308T070000
END:DAYLIGHT
BEGIN:STANDARD
TZOFFSETFROM:-0400
TZOFFSETTO:-0500
TZNAME:EST
DTSTART:20261101T060000
END:STANDARD
END:VTIMEZONE
BEGIN:VTIMEZONE
TZID:UTC
BEGIN:STANDARD
TZOFFSETFROM:+0000
TZOFFSETTO:+0000
TZNAME:UTC
DTSTART:20230101T000000
END:STANDARD
END:VTIMEZONE
BEGIN:VEVENT
DTSTART;TZID=America/New_York:20250221T090000
DTEND;TZID=America/New_York:20250221T110000
DTSTAMP:20260422T172220
CREATED:20250115T203335Z
LAST-MODIFIED:20250115T203335Z
UID:10000505-1740128400-1740135600@northeasthealthdistrict.org
SUMMARY:Barrow County BOH Meeting
DESCRIPTION:
URL:https://northeasthealthdistrict.org/event/barrow-county-boh-meeting/
LOCATION:Barrow County Health Department – Winder\, 15 Porter St.\, Winder\, GA\, GA\, United States
CATEGORIES:Board Meetings
GEO:33.9923896;-83.7224044
X-APPLE-STRUCTURED-LOCATION;VALUE=URI;X-ADDRESS=Barrow County Health Department – Winder 15 Porter St. Winder GA GA United States;X-APPLE-RADIUS=500;X-TITLE=15 Porter St.:geo:-83.7224044,33.9923896
END:VEVENT
BEGIN:VEVENT
DTSTART;TZID=America/New_York:20240923T090000
DTEND;TZID=America/New_York:20240923T150000
DTSTAMP:20260422T172220
CREATED:20240508T231940Z
LAST-MODIFIED:20240819T220559Z
UID:10000338-1727082000-1727103600@northeasthealthdistrict.org
SUMMARY:Barrow County WIC Farmers Market
DESCRIPTION:WIC Farmers Market for WIC participants. WIC participants\, please complete the online Farmers Market lesson\, then bring your eWIC card.
URL:https://northeasthealthdistrict.org/event/barrow-county-farmers-market-8/
LOCATION:Barrow County Health Department – Winder\, 15 Porter St.\, Winder\, GA\, GA\, United States
CATEGORIES:WIC Farmers Market
GEO:33.9923896;-83.7224044
X-APPLE-STRUCTURED-LOCATION;VALUE=URI;X-ADDRESS=Barrow County Health Department – Winder 15 Porter St. Winder GA GA United States;X-APPLE-RADIUS=500;X-TITLE=15 Porter St.:geo:-83.7224044,33.9923896
END:VEVENT
BEGIN:VEVENT
DTSTART;TZID=America/New_York:20240909T090000
DTEND;TZID=America/New_York:20240909T150000
DTSTAMP:20260422T172220
CREATED:20240508T231939Z
LAST-MODIFIED:20240819T220708Z
UID:10000337-1725872400-1725894000@northeasthealthdistrict.org
SUMMARY:Barrow County WIC Farmers Market
DESCRIPTION:WIC Farmers Market for WIC participants. WIC participants\, please complete the online Farmers Market lesson\, then bring your eWIC card.
URL:https://northeasthealthdistrict.org/event/barrow-county-farmers-market-7/
LOCATION:Barrow County Health Department – Winder\, 15 Porter St.\, Winder\, GA\, GA\, United States
CATEGORIES:WIC Farmers Market
GEO:33.9923896;-83.7224044
X-APPLE-STRUCTURED-LOCATION;VALUE=URI;X-ADDRESS=Barrow County Health Department – Winder 15 Porter St. Winder GA GA United States;X-APPLE-RADIUS=500;X-TITLE=15 Porter St.:geo:-83.7224044,33.9923896
END:VEVENT
BEGIN:VEVENT
DTSTART;TZID=America/New_York:20240826T090000
DTEND;TZID=America/New_York:20240826T150000
DTSTAMP:20260422T172220
CREATED:20240508T231939Z
LAST-MODIFIED:20240819T220722Z
UID:10000336-1724662800-1724684400@northeasthealthdistrict.org
SUMMARY:Barrow County WIC Farmers Market
DESCRIPTION:WIC Farmers Market for WIC participants. WIC participants\, please complete the online Farmers Market lesson\, then bring your eWIC card.
URL:https://northeasthealthdistrict.org/event/barrow-county-farmers-market-6/
LOCATION:Barrow County Health Department – Winder\, 15 Porter St.\, Winder\, GA\, GA\, United States
CATEGORIES:WIC Farmers Market
GEO:33.9923896;-83.7224044
X-APPLE-STRUCTURED-LOCATION;VALUE=URI;X-ADDRESS=Barrow County Health Department – Winder 15 Porter St. Winder GA GA United States;X-APPLE-RADIUS=500;X-TITLE=15 Porter St.:geo:-83.7224044,33.9923896
END:VEVENT
BEGIN:VEVENT
DTSTART;TZID=UTC:20240812T100000
DTEND;TZID=UTC:20240812T120000
DTSTAMP:20260422T172220
CREATED:20240711T184818Z
LAST-MODIFIED:20240711T184818Z
UID:10000385-1723456800-1723464000@northeasthealthdistrict.org
SUMMARY:Baby Palooza (Barrow Co)
DESCRIPTION:
URL:https://northeasthealthdistrict.org/event/baby-palooza-barrow-co/
LOCATION:Barrow County Health Department – Winder\, 15 Porter St.\, Winder\, GA\, GA\, United States
CATEGORIES:Diaper Giveaway
GEO:33.9923896;-83.7224044
X-APPLE-STRUCTURED-LOCATION;VALUE=URI;X-ADDRESS=Barrow County Health Department – Winder 15 Porter St. Winder GA GA United States;X-APPLE-RADIUS=500;X-TITLE=15 Porter St.:geo:-83.7224044,33.9923896
END:VEVENT
BEGIN:VEVENT
DTSTART;TZID=America/New_York:20240812T090000
DTEND;TZID=America/New_York:20240812T150000
DTSTAMP:20260422T172220
CREATED:20240508T231939Z
LAST-MODIFIED:20240508T231939Z
UID:10000335-1723453200-1723474800@northeasthealthdistrict.org
SUMMARY:Barrow County Farmers Market
DESCRIPTION:WIC Farmers Market for WIC participants. WIC participants\, please complete the online Farmers Market lesson\, then bring your eWIC card.
URL:https://northeasthealthdistrict.org/event/barrow-county-farmers-market-5/
LOCATION:Barrow County Health Department – Winder\, 15 Porter St.\, Winder\, GA\, GA\, United States
CATEGORIES:WIC Farmers Market
GEO:33.9923896;-83.7224044
X-APPLE-STRUCTURED-LOCATION;VALUE=URI;X-ADDRESS=Barrow County Health Department – Winder 15 Porter St. Winder GA GA United States;X-APPLE-RADIUS=500;X-TITLE=15 Porter St.:geo:-83.7224044,33.9923896
END:VEVENT
BEGIN:VEVENT
DTSTART;TZID=America/New_York:20240729T090000
DTEND;TZID=America/New_York:20240729T150000
DTSTAMP:20260422T172220
CREATED:20240508T231939Z
LAST-MODIFIED:20240508T231939Z
UID:10000334-1722243600-1722265200@northeasthealthdistrict.org
SUMMARY:Barrow County Farmers Market
DESCRIPTION:WIC Farmers Market for WIC participants. WIC participants\, please complete the online Farmers Market lesson\, then bring your eWIC card.
URL:https://northeasthealthdistrict.org/event/barrow-county-farmers-market-4/
LOCATION:Barrow County Health Department – Winder\, 15 Porter St.\, Winder\, GA\, GA\, United States
CATEGORIES:WIC Farmers Market
GEO:33.9923896;-83.7224044
X-APPLE-STRUCTURED-LOCATION;VALUE=URI;X-ADDRESS=Barrow County Health Department – Winder 15 Porter St. Winder GA GA United States;X-APPLE-RADIUS=500;X-TITLE=15 Porter St.:geo:-83.7224044,33.9923896
END:VEVENT
BEGIN:VEVENT
DTSTART;TZID=UTC:20240715T090000
DTEND;TZID=UTC:20240715T120000
DTSTAMP:20260422T172220
CREATED:20240508T231939Z
LAST-MODIFIED:20240712T195325Z
UID:10000333-1721034000-1721044800@northeasthealthdistrict.org
SUMMARY:Barrow County Farmers Market
DESCRIPTION:UPDATE!! Due to the heat advisory\, the Farmers Market will ONLY operate from 9am to 12noon TODAY. \nWIC Farmers Market for WIC participants. WIC participants\, please complete the online Farmers Market lesson\, then bring your eWIC card.
URL:https://northeasthealthdistrict.org/event/barrow-county-farmers-market-3/
LOCATION:Barrow County Health Department – Winder\, 15 Porter St.\, Winder\, GA\, GA\, United States
CATEGORIES:WIC Farmers Market
GEO:33.9923896;-83.7224044
X-APPLE-STRUCTURED-LOCATION;VALUE=URI;X-ADDRESS=Barrow County Health Department – Winder 15 Porter St. Winder GA GA United States;X-APPLE-RADIUS=500;X-TITLE=15 Porter St.:geo:-83.7224044,33.9923896
END:VEVENT
BEGIN:VEVENT
DTSTART;TZID=America/New_York:20240624T090000
DTEND;TZID=America/New_York:20240624T150000
DTSTAMP:20260422T172220
CREATED:20240508T231939Z
LAST-MODIFIED:20240508T231939Z
UID:10000332-1719219600-1719241200@northeasthealthdistrict.org
SUMMARY:Barrow County Farmers Market
DESCRIPTION:WIC Farmers Market for WIC participants. WIC participants\, please complete the online Farmers Market lesson\, then bring your eWIC card.
URL:https://northeasthealthdistrict.org/event/barrow-county-farmers-market-2/
LOCATION:Barrow County Health Department – Winder\, 15 Porter St.\, Winder\, GA\, GA\, United States
CATEGORIES:WIC Farmers Market
GEO:33.9923896;-83.7224044
X-APPLE-STRUCTURED-LOCATION;VALUE=URI;X-ADDRESS=Barrow County Health Department – Winder 15 Porter St. Winder GA GA United States;X-APPLE-RADIUS=500;X-TITLE=15 Porter St.:geo:-83.7224044,33.9923896
END:VEVENT
BEGIN:VEVENT
DTSTART;TZID=America/New_York:20240610T090000
DTEND;TZID=America/New_York:20240610T150000
DTSTAMP:20260422T172220
CREATED:20240508T231939Z
LAST-MODIFIED:20240508T231939Z
UID:10000331-1718010000-1718031600@northeasthealthdistrict.org
SUMMARY:Barrow County Farmers Market
DESCRIPTION:WIC Farmers Market for WIC participants. WIC participants\, please complete the online Farmers Market lesson\, then bring your eWIC card.
URL:https://northeasthealthdistrict.org/event/barrow-county-farmers-market/
LOCATION:Barrow County Health Department – Winder\, 15 Porter St.\, Winder\, GA\, GA\, United States
CATEGORIES:WIC Farmers Market
GEO:33.9923896;-83.7224044
X-APPLE-STRUCTURED-LOCATION;VALUE=URI;X-ADDRESS=Barrow County Health Department – Winder 15 Porter St. Winder GA GA United States;X-APPLE-RADIUS=500;X-TITLE=15 Porter St.:geo:-83.7224044,33.9923896
END:VEVENT
BEGIN:VEVENT
DTSTART;TZID=America/New_York:20240228T100000
DTEND;TZID=America/New_York:20240207T110000
DTSTAMP:20260422T172220
CREATED:20240213T010414Z
LAST-MODIFIED:20240213T010414Z
UID:10000295-1709114400-1707303600@northeasthealthdistrict.org
SUMMARY:Milk & Cookies
DESCRIPTION:
URL:https://northeasthealthdistrict.org/event/milk-cookies-8/
LOCATION:Barrow County Health Department – Winder\, 15 Porter St.\, Winder\, GA\, GA\, United States
CATEGORIES:Breastfeeding Support Group,Other
GEO:33.9923896;-83.7224044
X-APPLE-STRUCTURED-LOCATION;VALUE=URI;X-ADDRESS=Barrow County Health Department – Winder 15 Porter St. Winder GA GA United States;X-APPLE-RADIUS=500;X-TITLE=15 Porter St.:geo:-83.7224044,33.9923896
END:VEVENT
BEGIN:VEVENT
DTSTART;TZID=America/New_York:20240226T111500
DTEND;TZID=America/New_York:20240226T121500
DTSTAMP:20260422T172220
CREATED:20240213T010413Z
LAST-MODIFIED:20240213T010413Z
UID:10000291-1708946100-1708949700@northeasthealthdistrict.org
SUMMARY:Milk & Cookies
DESCRIPTION:
URL:https://northeasthealthdistrict.org/event/milk-cookies-4/
LOCATION:Barrow County Health Department – Winder\, 15 Porter St.\, Winder\, GA\, GA\, United States
CATEGORIES:Breastfeeding Support Group,Other
GEO:33.9923896;-83.7224044
X-APPLE-STRUCTURED-LOCATION;VALUE=URI;X-ADDRESS=Barrow County Health Department – Winder 15 Porter St. Winder GA GA United States;X-APPLE-RADIUS=500;X-TITLE=15 Porter St.:geo:-83.7224044,33.9923896
END:VEVENT
BEGIN:VEVENT
DTSTART;TZID=America/New_York:20240221T100000
DTEND;TZID=America/New_York:20240207T110000
DTSTAMP:20260422T172220
CREATED:20240213T010414Z
LAST-MODIFIED:20240213T010414Z
UID:10000294-1708509600-1707303600@northeasthealthdistrict.org
SUMMARY:Milk & Cookies
DESCRIPTION:
URL:https://northeasthealthdistrict.org/event/milk-cookies-7/
LOCATION:Barrow County Health Department – Winder\, 15 Porter St.\, Winder\, GA\, GA\, United States
CATEGORIES:Breastfeeding Support Group,Other
GEO:33.9923896;-83.7224044
X-APPLE-STRUCTURED-LOCATION;VALUE=URI;X-ADDRESS=Barrow County Health Department – Winder 15 Porter St. Winder GA GA United States;X-APPLE-RADIUS=500;X-TITLE=15 Porter St.:geo:-83.7224044,33.9923896
END:VEVENT
BEGIN:VEVENT
DTSTART;TZID=America/New_York:20240219T111500
DTEND;TZID=America/New_York:20240219T121500
DTSTAMP:20260422T172220
CREATED:20240213T010413Z
LAST-MODIFIED:20240213T010413Z
UID:10000290-1708341300-1708344900@northeasthealthdistrict.org
SUMMARY:Milk & Cookies
DESCRIPTION:
URL:https://northeasthealthdistrict.org/event/milk-cookies-3/
LOCATION:Barrow County Health Department – Winder\, 15 Porter St.\, Winder\, GA\, GA\, United States
CATEGORIES:Breastfeeding Support Group,Other
GEO:33.9923896;-83.7224044
X-APPLE-STRUCTURED-LOCATION;VALUE=URI;X-ADDRESS=Barrow County Health Department – Winder 15 Porter St. Winder GA GA United States;X-APPLE-RADIUS=500;X-TITLE=15 Porter St.:geo:-83.7224044,33.9923896
END:VEVENT
BEGIN:VEVENT
DTSTART;TZID=America/New_York:20240214T100000
DTEND;TZID=America/New_York:20240207T110000
DTSTAMP:20260422T172220
CREATED:20240213T010414Z
LAST-MODIFIED:20240213T010414Z
UID:10000293-1707904800-1707303600@northeasthealthdistrict.org
SUMMARY:Milk & Cookies
DESCRIPTION:
URL:https://northeasthealthdistrict.org/event/milk-cookies-6/
LOCATION:Barrow County Health Department – Winder\, 15 Porter St.\, Winder\, GA\, GA\, United States
CATEGORIES:Breastfeeding Support Group,Other
GEO:33.9923896;-83.7224044
X-APPLE-STRUCTURED-LOCATION;VALUE=URI;X-ADDRESS=Barrow County Health Department – Winder 15 Porter St. Winder GA GA United States;X-APPLE-RADIUS=500;X-TITLE=15 Porter St.:geo:-83.7224044,33.9923896
END:VEVENT
BEGIN:VEVENT
DTSTART;TZID=UTC:20240212T111500
DTEND;TZID=UTC:20240212T121500
DTSTAMP:20260422T172220
CREATED:20240109T212805Z
LAST-MODIFIED:20240109T213755Z
UID:10000266-1707736500-1707740100@northeasthealthdistrict.org
SUMMARY:Milk and Cookies
DESCRIPTION:Breastfeeding support group sponsored by WIC
URL:https://northeasthealthdistrict.org/event/milk-and-cookies-5/
LOCATION:Barrow County Health Department – Winder\, 15 Porter St.\, Winder\, GA\, GA\, United States
CATEGORIES:Breastfeeding Support Group
GEO:33.9923896;-83.7224044
X-APPLE-STRUCTURED-LOCATION;VALUE=URI;X-ADDRESS=Barrow County Health Department – Winder 15 Porter St. Winder GA GA United States;X-APPLE-RADIUS=500;X-TITLE=15 Porter St.:geo:-83.7224044,33.9923896
END:VEVENT
BEGIN:VEVENT
DTSTART;TZID=America/New_York:20240212T111500
DTEND;TZID=America/New_York:20240212T121500
DTSTAMP:20260422T172220
CREATED:20240213T010413Z
LAST-MODIFIED:20240213T010413Z
UID:10000289-1707736500-1707740100@northeasthealthdistrict.org
SUMMARY:Milk & Cookies
DESCRIPTION:
URL:https://northeasthealthdistrict.org/event/milk-cookies-2/
LOCATION:Barrow County Health Department – Winder\, 15 Porter St.\, Winder\, GA\, GA\, United States
CATEGORIES:Breastfeeding Support Group,Other
GEO:33.9923896;-83.7224044
X-APPLE-STRUCTURED-LOCATION;VALUE=URI;X-ADDRESS=Barrow County Health Department – Winder 15 Porter St. Winder GA GA United States;X-APPLE-RADIUS=500;X-TITLE=15 Porter St.:geo:-83.7224044,33.9923896
END:VEVENT
BEGIN:VEVENT
DTSTART;TZID=America/New_York:20240207T100000
DTEND;TZID=America/New_York:20240207T110000
DTSTAMP:20260422T172220
CREATED:20240213T010414Z
LAST-MODIFIED:20240213T010414Z
UID:10000292-1707300000-1707303600@northeasthealthdistrict.org
SUMMARY:Milk & Cookies
DESCRIPTION:
URL:https://northeasthealthdistrict.org/event/milk-cookies-5/
LOCATION:Barrow County Health Department – Winder\, 15 Porter St.\, Winder\, GA\, GA\, United States
CATEGORIES:Breastfeeding Support Group,Other
GEO:33.9923896;-83.7224044
X-APPLE-STRUCTURED-LOCATION;VALUE=URI;X-ADDRESS=Barrow County Health Department – Winder 15 Porter St. Winder GA GA United States;X-APPLE-RADIUS=500;X-TITLE=15 Porter St.:geo:-83.7224044,33.9923896
END:VEVENT
BEGIN:VEVENT
DTSTART;TZID=UTC:20240205T111500
DTEND;TZID=UTC:20240205T121500
DTSTAMP:20260422T172220
CREATED:20240109T212804Z
LAST-MODIFIED:20240109T213818Z
UID:10000265-1707131700-1707135300@northeasthealthdistrict.org
SUMMARY:Milk and Cookies
DESCRIPTION:Breastfeeding support group sponsored by WIC
URL:https://northeasthealthdistrict.org/event/milk-and-cookies-4/
LOCATION:Barrow County Health Department – Winder\, 15 Porter St.\, Winder\, GA\, GA\, United States
CATEGORIES:Breastfeeding Support Group
GEO:33.9923896;-83.7224044
X-APPLE-STRUCTURED-LOCATION;VALUE=URI;X-ADDRESS=Barrow County Health Department – Winder 15 Porter St. Winder GA GA United States;X-APPLE-RADIUS=500;X-TITLE=15 Porter St.:geo:-83.7224044,33.9923896
END:VEVENT
BEGIN:VEVENT
DTSTART;TZID=America/New_York:20240205T111500
DTEND;TZID=America/New_York:20240205T121500
DTSTAMP:20260422T172220
CREATED:20240213T010413Z
LAST-MODIFIED:20240213T010413Z
UID:10000288-1707131700-1707135300@northeasthealthdistrict.org
SUMMARY:Milk & Cookies
DESCRIPTION:
URL:https://northeasthealthdistrict.org/event/milk-cookies/
LOCATION:Barrow County Health Department – Winder\, 15 Porter St.\, Winder\, GA\, GA\, United States
CATEGORIES:Breastfeeding Support Group,Other
GEO:33.9923896;-83.7224044
X-APPLE-STRUCTURED-LOCATION;VALUE=URI;X-ADDRESS=Barrow County Health Department – Winder 15 Porter St. Winder GA GA United States;X-APPLE-RADIUS=500;X-TITLE=15 Porter St.:geo:-83.7224044,33.9923896
END:VEVENT
BEGIN:VEVENT
DTSTART;TZID=America/New_York:20240129T111500
DTEND;TZID=America/New_York:20240129T121500
DTSTAMP:20260422T172220
CREATED:20240109T212804Z
LAST-MODIFIED:20240109T213834Z
UID:10000264-1706526900-1706530500@northeasthealthdistrict.org
SUMMARY:Milk and Cookies
DESCRIPTION:Breastfeeding support group sponsored by WIC
URL:https://northeasthealthdistrict.org/event/milk-and-cookies-3/
LOCATION:Barrow County Health Department – Winder\, 15 Porter St.\, Winder\, GA\, GA\, United States
CATEGORIES:Breastfeeding Support Group
GEO:33.9923896;-83.7224044
X-APPLE-STRUCTURED-LOCATION;VALUE=URI;X-ADDRESS=Barrow County Health Department – Winder 15 Porter St. Winder GA GA United States;X-APPLE-RADIUS=500;X-TITLE=15 Porter St.:geo:-83.7224044,33.9923896
END:VEVENT
BEGIN:VEVENT
DTSTART;TZID=America/New_York:20240122T111500
DTEND;TZID=America/New_York:20240122T121500
DTSTAMP:20260422T172220
CREATED:20240109T212804Z
LAST-MODIFIED:20240109T213844Z
UID:10000263-1705922100-1705925700@northeasthealthdistrict.org
SUMMARY:Milk and Cookies
DESCRIPTION:Breastfeeding support group sponsored by WIC
URL:https://northeasthealthdistrict.org/event/milk-and-cookies-2/
LOCATION:Barrow County Health Department – Winder\, 15 Porter St.\, Winder\, GA\, GA\, United States
CATEGORIES:Breastfeeding Support Group
GEO:33.9923896;-83.7224044
X-APPLE-STRUCTURED-LOCATION;VALUE=URI;X-ADDRESS=Barrow County Health Department – Winder 15 Porter St. Winder GA GA United States;X-APPLE-RADIUS=500;X-TITLE=15 Porter St.:geo:-83.7224044,33.9923896
END:VEVENT
BEGIN:VEVENT
DTSTART;TZID=America/New_York:20230108T111500
DTEND;TZID=America/New_York:20230108T121500
DTSTAMP:20260422T172220
CREATED:20240109T212804Z
LAST-MODIFIED:20240109T212804Z
UID:10000262-1673176500-1673180100@northeasthealthdistrict.org
SUMMARY:Milk and Cookies
DESCRIPTION:Breastfeeding support group sponsored by WIC
URL:https://northeasthealthdistrict.org/event/milk-and-cookies/
LOCATION:Barrow County Health Department – Winder\, 15 Porter St.\, Winder\, GA\, GA\, United States
CATEGORIES:Other
GEO:33.9923896;-83.7224044
X-APPLE-STRUCTURED-LOCATION;VALUE=URI;X-ADDRESS=Barrow County Health Department – Winder 15 Porter St. Winder GA GA United States;X-APPLE-RADIUS=500;X-TITLE=15 Porter St.:geo:-83.7224044,33.9923896
END:VEVENT
END:VCALENDAR