BEGIN:VCALENDAR
VERSION:2.0
PRODID:-//Northeast Health District - ECPv6.15.20//NONSGML v1.0//EN
CALSCALE:GREGORIAN
METHOD:PUBLISH
X-WR-CALNAME:Northeast Health District
X-ORIGINAL-URL:https://northeasthealthdistrict.org
X-WR-CALDESC:Events for Northeast Health District
REFRESH-INTERVAL;VALUE=DURATION:PT1H
X-Robots-Tag:noindex
X-PUBLISHED-TTL:PT1H
BEGIN:VTIMEZONE
TZID:UTC
BEGIN:STANDARD
TZOFFSETFROM:+0000
TZOFFSETTO:+0000
TZNAME:UTC
DTSTART:20220101T000000
END:STANDARD
END:VTIMEZONE
BEGIN:VEVENT
DTSTART;TZID=UTC:20231109T140000
DTEND;TZID=UTC:20231109T160000
DTSTAMP:20260422T084934
CREATED:20230610T174235Z
LAST-MODIFIED:20230622T083609Z
UID:10000166-1699538400-1699545600@northeasthealthdistrict.org
SUMMARY:BOH Meetings November
DESCRIPTION:Schedule : 2nd Thursday 2nd month
URL:https://northeasthealthdistrict.org/event/boh-meetings-november-3/
LOCATION:Madison County Health Department\, 1424 Hwy 98 W.\, Danielsville\, GA\, 30633\, United States
CATEGORIES:Board Meetings
ATTACH;FMTTYPE=image/webp:https://northeasthealthdistrict.org/wp-content/uploads/2023/06/board-meetings.webp
GEO:34.1440106;-83.2364228
X-APPLE-STRUCTURED-LOCATION;VALUE=URI;X-ADDRESS=Madison County Health Department 1424 Hwy 98 W. Danielsville GA 30633 United States;X-APPLE-RADIUS=500;X-TITLE=1424 Hwy 98 W.:geo:-83.2364228,34.1440106
END:VEVENT
BEGIN:VEVENT
DTSTART;TZID=UTC:20230912T090000
DTEND;TZID=UTC:20230912T140000
DTSTAMP:20260422T084934
CREATED:20230529T162008Z
LAST-MODIFIED:20230622T083853Z
UID:10000123-1694509200-1694527200@northeasthealthdistrict.org
SUMMARY:WIC Farmers Market
DESCRIPTION:
URL:https://northeasthealthdistrict.org/event/wic-farmers-market-27/
LOCATION:Madison County Health Department\, 1424 Hwy 98 W.\, Danielsville\, GA\, 30633\, United States
CATEGORIES:WIC Farmers Market
ATTACH;FMTTYPE=image/webp:https://northeasthealthdistrict.org/wp-content/uploads/2023/06/wic-farmers-market-1.webp
GEO:34.1440106;-83.2364228
X-APPLE-STRUCTURED-LOCATION;VALUE=URI;X-ADDRESS=Madison County Health Department 1424 Hwy 98 W. Danielsville GA 30633 United States;X-APPLE-RADIUS=500;X-TITLE=1424 Hwy 98 W.:geo:-83.2364228,34.1440106
END:VEVENT
BEGIN:VEVENT
DTSTART;TZID=UTC:20230815T090000
DTEND;TZID=UTC:20230815T140000
DTSTAMP:20260422T084934
CREATED:20230529T162007Z
LAST-MODIFIED:20230622T084400Z
UID:10000112-1692090000-1692108000@northeasthealthdistrict.org
SUMMARY:WIC Farmers Market
DESCRIPTION:
URL:https://northeasthealthdistrict.org/event/wic-farmers-market-16/
LOCATION:Madison County Health Department\, 1424 Hwy 98 W.\, Danielsville\, GA\, 30633\, United States
CATEGORIES:WIC Farmers Market
ATTACH;FMTTYPE=image/webp:https://northeasthealthdistrict.org/wp-content/uploads/2023/06/wic-farmers-market-1.webp
GEO:34.1440106;-83.2364228
X-APPLE-STRUCTURED-LOCATION;VALUE=URI;X-ADDRESS=Madison County Health Department 1424 Hwy 98 W. Danielsville GA 30633 United States;X-APPLE-RADIUS=500;X-TITLE=1424 Hwy 98 W.:geo:-83.2364228,34.1440106
END:VEVENT
BEGIN:VEVENT
DTSTART;TZID=UTC:20230810T140000
DTEND;TZID=UTC:20230810T160000
DTSTAMP:20260422T084934
CREATED:20230610T174235Z
LAST-MODIFIED:20230622T084458Z
UID:10000156-1691676000-1691683200@northeasthealthdistrict.org
SUMMARY:BOH Meetings August
DESCRIPTION:Schedule : 2nd Thursday 2nd month
URL:https://northeasthealthdistrict.org/event/boh-meetings-august-3/
LOCATION:Madison County Health Department\, 1424 Hwy 98 W.\, Danielsville\, GA\, 30633\, United States
CATEGORIES:Board Meetings
ATTACH;FMTTYPE=image/webp:https://northeasthealthdistrict.org/wp-content/uploads/2023/06/board-meetings.webp
GEO:34.1440106;-83.2364228
X-APPLE-STRUCTURED-LOCATION;VALUE=URI;X-ADDRESS=Madison County Health Department 1424 Hwy 98 W. Danielsville GA 30633 United States;X-APPLE-RADIUS=500;X-TITLE=1424 Hwy 98 W.:geo:-83.2364228,34.1440106
END:VEVENT
END:VCALENDAR